{"text_format":"3","workbook":"xlsx","n_sheets":3,"sheets":["Sheet1","Male","Female"],"not_rendered":{"macros":1,"external_links":1,"defined_names":1,"comments":1},"read":"whole","date_system":"1900"}

{"sheet":"Sheet1","index":0,"n_rows":127,"n_cols":14,"rows_kept":127,"merged":[[1,1,1,7],[2,2,2,4],[2,5,2,7],[3,4,4,4],[3,7,4,7],[3,9,3,13],[4,10,4,11],[4,12,4,13]]}
[]
[null,"Create Employee/Annuitant Combined Mortality Table"]
[null,null,"Male",null,null,"Female"]
[null,null,"Employee","Annuitant","User Defined Blended Table","Employee","Annuitant","User Defined Blended Table",null,"Weighting Factors to Produce Combined Table"]
[null,null,"RP2014-E-M","RP2014-HA-M",null,"RP2014-E-F","RP2014-HA-F",{"$nulls":3},"% Retiring in Year",null,"Accumulative % Retired"]
[null,"Age","qx","qx","qx","qx","qx","qx",null,"Age","Male","Female","Male","Female"]
[null,0,{"$f":"[1]!Q($B7,C$5)","v":{"v":7.071E-3,"d":"0.007071"}},{"$f":"[1]!Q($B7,D$5)","v":{"v":0,"d":"0.000000"}},null,{"$f":"[1]!Q($B7,F$5)","v":{"v":0.00583,"d":"0.005830"}},{"$f":"[1]!Q($B7,G$5)","v":{"v":0,"d":"0.000000"}},null,null,0,{"v":0,"d":"0.00%"},{"v":0,"d":"0.00%"},{"v":0,"d":"0.00%"},{"v":0,"d":"0.00%"}]
[null,{"$f":"B7+1","v":1},{"$f":"[1]!Q($B8,C$5)","v":{"v":0.00041,"d":"0.000410"}},{"$f":"[1]!Q($B8,D$5)","v":{"v":0,"d":"0.000000"}},null,{"$f":"[1]!Q($B8,F$5)","v":0.000361},{"$f":"[1]!Q($B8,G$5)","v":{"v":0,"d":"0.000000"}},null,null,{"$f":"J7+1","v":1},{"v":0,"d":"0.00%"},{"v":0,"d":"0.00%"},{"$f":"ROUND(1+(M7-1)*(1-K7),4)","v":{"v":0,"d":"0.00%"}},{"$f":"ROUND(1+(N7-1)*(1-L7),4)","v":{"v":0,"d":"0.00%"}}]
[null,2,{"$f":"[1]!Q($B9,C$5)","v":0.000277},{"$f":"[1]!Q($B9,D$5)","v":{"v":0,"d":"0.000000"}},null,{"$f":"[1]!Q($B9,F$5)","v":0.000236},{"$f":"[1]!Q($B9,G$5)","v":{"v":0,"d":"0.000000"}},null,null,2,{"v":0,"d":"0.00%"},{"v":0,"d":"0.00%"},{"v":0,"d":"0.00%"},{"v":0,"d":"0.00%"}]
[null,3,{"$f":"[1]!Q($B10,C$5)","v":{"v":0.00023,"d":"0.000230"}},{"$f":"[1]!Q($B10,D$5)","v":{"v":0,"d":"0.000000"}},null,{"$f":"[1]!Q($B10,F$5)","v":{"v":1.76E-4,"d":"0.000176"}},{"$f":"[1]!Q($B10,G$5)","v":{"v":0,"d":"0.000000"}},null,null,3,{"v":0,"d":"0.00%"},{"v":0,"d":"0.00%"},{"v":0,"d":"0.00%"},{"v":0,"d":"0.00%"}]
[null,4,{"$f":"[1]!Q($B11,C$5)","v":0.000179},{"$f":"[1]!Q($B11,D$5)","v":{"v":0,"d":"0.000000"}},null,{"$f":"[1]!Q($B11,F$5)","v":0.000132},{"$f":"[1]!Q($B11,G$5)","v":{"v":0,"d":"0.000000"}},null,null,4,{"v":0,"d":"0.00%"},{"v":0,"d":"0.00%"},{"v":0,"d":"0.00%"},{"v":0,"d":"0.00%"}]
[null,5,{"$f":"[1]!Q($B12,C$5)","v":0.000157},{"$f":"[1]!Q($B12,D$5)","v":{"v":0,"d":"0.000000"}},null,{"$f":"[1]!Q($B12,F$5)","v":0.000119},{"$f":"[1]!Q($B12,G$5)","v":{"v":0,"d":"0.000000"}},null,null,5,{"v":0,"d":"0.00%"},{"v":0,"d":"0.00%"},{"v":0,"d":"0.00%"},{"v":0,"d":"0.00%"}]
[null,6,{"$f":"[1]!Q($B13,C$5)","v":0.000141},{"$f":"[1]!Q($B13,D$5)","v":{"v":0,"d":"0.000000"}},null,{"$f":"[1]!Q($B13,F$5)","v":{"v":1.1E-4,"d":"0.000110"}},{"$f":"[1]!Q($B13,G$5)","v":{"v":0,"d":"0.000000"}},null,null,6,{"v":0,"d":"0.00%"},{"v":0,"d":"0.00%"},{"v":0,"d":"0.00%"},{"v":0,"d":"0.00%"}]
[null,7,{"$f":"[1]!Q($B14,C$5)","v":0.000124},{"$f":"[1]!Q($B14,D$5)","v":{"v":0,"d":"0.000000"}},null,{"$f":"[1]!Q($B14,F$5)","v":{"v":1.02E-4,"d":"0.000102"}},{"$f":"[1]!Q($B14,G$5)","v":{"v":0,"d":"0.000000"}},null,null,7,{"v":0,"d":"0.00%"},{"v":0,"d":"0.00%"},{"v":0,"d":"0.00%"},{"v":0,"d":"0.00%"}]
[null,8,{"$f":"[1]!Q($B15,C$5)","v":{"v":1.05E-4,"d":"0.000105"}},{"$f":"[1]!Q($B15,D$5)","v":{"v":0,"d":"0.000000"}},null,{"$f":"[1]!Q($B15,F$5)","v":{"v":9.4e-05,"d":"0.000094"}},{"$f":"[1]!Q($B15,G$5)","v":{"v":0,"d":"0.000000"}},null,null,8,{"v":0,"d":"0.00%"},{"v":0,"d":"0.00%"},{"v":0,"d":"0.00%"},{"v":0,"d":"0.00%"}]
[null,9,{"$f":"[1]!Q($B16,C$5)","v":{"v":8.5e-05,"d":"0.000085"}},{"$f":"[1]!Q($B16,D$5)","v":{"v":0,"d":"0.000000"}},null,{"$f":"[1]!Q($B16,F$5)","v":{"v":8.7e-05,"d":"0.000087"}},{"$f":"[1]!Q($B16,G$5)","v":{"v":0,"d":"0.000000"}},null,null,9,{"v":0,"d":"0.00%"},{"v":0,"d":"0.00%"},{"v":0,"d":"0.00%"},{"v":0,"d":"0.00%"}]
[null,10,{"$f":"[1]!Q($B17,C$5)","v":{"v":7.2e-05,"d":"0.000072"}},{"$f":"[1]!Q($B17,D$5)","v":{"v":0,"d":"0.000000"}},null,{"$f":"[1]!Q($B17,F$5)","v":{"v":8.2e-05,"d":"0.000082"}},{"$f":"[1]!Q($B17,G$5)","v":{"v":0,"d":"0.000000"}},null,null,10,{"v":0,"d":"0.00%"},{"v":0,"d":"0.00%"},{"v":0,"d":"0.00%"},{"v":0,"d":"0.00%"}]
[null,11,{"$f":"[1]!Q($B18,C$5)","v":{"v":7.6e-05,"d":"0.000076"}},{"$f":"[1]!Q($B18,D$5)","v":{"v":0,"d":"0.000000"}},null,{"$f":"[1]!Q($B18,F$5)","v":{"v":8.4e-05,"d":"0.000084"}},{"$f":"[1]!Q($B18,G$5)","v":{"v":0,"d":"0.000000"}},null,null,11,{"v":0,"d":"0.00%"},{"v":0,"d":"0.00%"},{"v":0,"d":"0.00%"},{"v":0,"d":"0.00%"}]
[null,12,{"$f":"[1]!Q($B19,C$5)","v":{"v":1.13E-4,"d":"0.000113"}},{"$f":"[1]!Q($B19,D$5)","v":{"v":0,"d":"0.000000"}},null,{"$f":"[1]!Q($B19,F$5)","v":{"v":9.7E-5,"d":"0.000097"}},{"$f":"[1]!Q($B19,G$5)","v":{"v":0,"d":"0.000000"}},null,null,12,{"v":0,"d":"0.00%"},{"v":0,"d":"0.00%"},{"v":0,"d":"0.00%"},{"v":0,"d":"0.00%"}]
[null,13,{"$f":"[1]!Q($B20,C$5)","v":0.000149},{"$f":"[1]!Q($B20,D$5)","v":{"v":0,"d":"0.000000"}},null,{"$f":"[1]!Q($B20,F$5)","v":{"v":1.1E-4,"d":"0.000110"}},{"$f":"[1]!Q($B20,G$5)","v":{"v":0,"d":"0.000000"}},null,null,13,{"v":0,"d":"0.00%"},{"v":0,"d":"0.00%"},{"v":0,"d":"0.00%"},{"v":0,"d":"0.00%"}]
[null,14,{"$f":"[1]!Q($B21,C$5)","v":{"v":1.83E-4,"d":"0.000183"}},{"$f":"[1]!Q($B21,D$5)","v":{"v":0,"d":"0.000000"}},null,{"$f":"[1]!Q($B21,F$5)","v":{"v":1.21E-4,"d":"0.000121"}},{"$f":"[1]!Q($B21,G$5)","v":{"v":0,"d":"0.000000"}},null,null,14,{"v":0,"d":"0.00%"},{"v":0,"d":"0.00%"},{"v":0,"d":"0.00%"},{"v":0,"d":"0.00%"}]
[null,15,{"$f":"[1]!Q($B22,C$5)","v":0.000218},{"$f":"[1]!Q($B22,D$5)","v":{"v":0,"d":"0.000000"}},null,{"$f":"[1]!Q($B22,F$5)","v":0.000132},{"$f":"[1]!Q($B22,G$5)","v":{"v":0,"d":"0.000000"}},null,null,15,{"v":0,"d":"0.00%"},{"v":0,"d":"0.00%"},{"v":0,"d":"0.00%"},{"v":0,"d":"0.00%"}]
[null,16,{"$f":"[1]!Q($B23,C$5)","v":0.000253},{"$f":"[1]!Q($B23,D$5)","v":{"v":0,"d":"0.000000"}},null,{"$f":"[1]!Q($B23,F$5)","v":0.000142},{"$f":"[1]!Q($B23,G$5)","v":{"v":0,"d":"0.000000"}},null,null,16,{"v":0,"d":"0.00%"},{"v":0,"d":"0.00%"},{"v":0,"d":"0.00%"},{"v":0,"d":"0.00%"}]
[null,17,{"$f":"[1]!Q($B24,C$5)","v":{"v":2.9E-4,"d":"0.000290"}},{"$f":"[1]!Q($B24,D$5)","v":{"v":0,"d":"0.000000"}},null,{"$f":"[1]!Q($B24,F$5)","v":{"v":0.00015,"d":"0.000150"}},{"$f":"[1]!Q($B24,G$5)","v":{"v":0,"d":"0.000000"}},null,null,17,{"v":0,"d":"0.00%"},{"v":0,"d":"0.00%"},{"v":0,"d":"0.00%"},{"v":0,"d":"0.00%"}]
[null,18,{"$f":"[1]!Q($B25,C$5)","v":{"v":3.28E-4,"d":"0.000328"}},{"$f":"[1]!Q($B25,D$5)","v":{"v":0,"d":"0.000000"}},{"$f":"C25","v":{"v":3.28E-4,"d":"0.000328"}},{"$f":"[1]!Q($B25,F$5)","v":0.000157},{"$f":"[1]!Q($B25,G$5)","v":{"v":0,"d":"0.000000"}},{"$f":"F25","v":0.000157},null,18,{"v":0,"d":"0.00%"},{"v":0,"d":"0.00%"},{"v":0,"d":"0.00%"},{"v":0,"d":"0.00%"}]
[null,19,{"$f":"[1]!Q($B26,C$5)","v":0.000369},{"$f":"[1]!Q($B26,D$5)","v":{"v":0,"d":"0.000000"}},0.000369,{"$f":"[1]!Q($B26,F$5)","v":0.000162},{"$f":"[1]!Q($B26,G$5)","v":{"v":0,"d":"0.000000"}},0.000162,null,19,{"v":0,"d":"0.00%"},{"v":0,"d":"0.00%"},{"v":0,"d":"0.00%"},{"v":0,"d":"0.00%"}]
[null,20,{"$f":"[1]!Q($B27,C$5)","v":{"v":4.06E-4,"d":"0.000406"}},{"$f":"[1]!Q($B27,D$5)","v":{"v":0,"d":"0.000000"}},{"v":4.06E-4,"d":"0.000406"},{"$f":"[1]!Q($B27,F$5)","v":0.000162},{"$f":"[1]!Q($B27,G$5)","v":{"v":0,"d":"0.000000"}},0.000162,null,20,{"v":0,"d":"0.00%"},{"v":0,"d":"0.00%"},{"v":0,"d":"0.00%"},{"v":0,"d":"0.00%"}]
[null,21,{"$f":"[1]!Q($B28,C$5)","v":0.000449},{"$f":"[1]!Q($B28,D$5)","v":{"v":0,"d":"0.000000"}},0.000449,{"$f":"[1]!Q($B28,F$5)","v":0.000162},{"$f":"[1]!Q($B28,G$5)","v":{"v":0,"d":"0.000000"}},0.000162,null,21,{"v":0,"d":"0.00%"},{"v":0,"d":"0.00%"},{"v":0,"d":"0.00%"},{"v":0,"d":"0.00%"}]
[null,22,{"$f":"[1]!Q($B29,C$5)","v":0.000488},{"$f":"[1]!Q($B29,D$5)","v":{"v":0,"d":"0.000000"}},0.000488,{"$f":"[1]!Q($B29,F$5)","v":0.000162},{"$f":"[1]!Q($B29,G$5)","v":{"v":0,"d":"0.000000"}},0.000162,null,22,{"v":0,"d":"0.00%"},{"v":0,"d":"0.00%"},{"v":0,"d":"0.00%"},{"v":0,"d":"0.00%"}]
[null,23,{"$f":"[1]!Q($B30,C$5)","v":0.000509},{"$f":"[1]!Q($B30,D$5)","v":{"v":0,"d":"0.000000"}},0.000509,{"$f":"[1]!Q($B30,F$5)","v":{"v":1.66E-4,"d":"0.000166"}},{"$f":"[1]!Q($B30,G$5)","v":{"v":0,"d":"0.000000"}},{"v":1.66E-4,"d":"0.000166"},null,23,{"v":0,"d":"0.00%"},{"v":0,"d":"0.00%"},{"v":0,"d":"0.00%"},{"v":0,"d":"0.00%"}]
[null,24,{"$f":"[1]!Q($B31,C$5)","v":0.000516},{"$f":"[1]!Q($B31,D$5)","v":{"v":0,"d":"0.000000"}},0.000516,{"$f":"[1]!Q($B31,F$5)","v":0.000169},{"$f":"[1]!Q($B31,G$5)","v":{"v":0,"d":"0.000000"}},0.000169,null,24,{"v":0,"d":"0.00%"},{"v":0,"d":"0.00%"},{"v":0,"d":"0.00%"},{"v":0,"d":"0.00%"}]
[null,25,{"$f":"[1]!Q($B32,C$5)","v":{"v":4.84E-4,"d":"0.000484"}},{"$f":"[1]!Q($B32,D$5)","v":{"v":0,"d":"0.000000"}},{"v":4.84E-4,"d":"0.000484"},{"$f":"[1]!Q($B32,F$5)","v":{"v":1.73E-4,"d":"0.000173"}},{"$f":"[1]!Q($B32,G$5)","v":{"v":0,"d":"0.000000"}},{"v":1.73E-4,"d":"0.000173"},null,25,{"v":0,"d":"0.00%"},{"v":0,"d":"0.00%"},{"v":0,"d":"0.00%"},{"v":0,"d":"0.00%"}]
[null,26,{"$f":"[1]!Q($B33,C$5)","v":0.000462},{"$f":"[1]!Q($B33,D$5)","v":{"v":0,"d":"0.000000"}},0.000462,{"$f":"[1]!Q($B33,F$5)","v":0.000179},{"$f":"[1]!Q($B33,G$5)","v":{"v":0,"d":"0.000000"}},0.000179,null,26,{"v":0,"d":"0.00%"},{"v":0,"d":"0.00%"},{"v":0,"d":"0.00%"},{"v":0,"d":"0.00%"}]
[null,27,{"$f":"[1]!Q($B34,C$5)","v":0.000449},{"$f":"[1]!Q($B34,D$5)","v":{"v":0,"d":"0.000000"}},0.000449,{"$f":"[1]!Q($B34,F$5)","v":0.000187},{"$f":"[1]!Q($B34,G$5)","v":{"v":0,"d":"0.000000"}},0.000187,null,27,{"v":0,"d":"0.00%"},{"v":0,"d":"0.00%"},{"v":0,"d":"0.00%"},{"v":0,"d":"0.00%"}]
[null,28,{"$f":"[1]!Q($B35,C$5)","v":{"v":4.44E-4,"d":"0.000444"}},{"$f":"[1]!Q($B35,D$5)","v":{"v":0,"d":"0.000000"}},{"v":4.44E-4,"d":"0.000444"},{"$f":"[1]!Q($B35,F$5)","v":0.000196},{"$f":"[1]!Q($B35,G$5)","v":{"v":0,"d":"0.000000"}},0.000196,null,28,{"v":0,"d":"0.00%"},{"v":0,"d":"0.00%"},{"v":0,"d":"0.00%"},{"v":0,"d":"0.00%"}]
[null,29,{"$f":"[1]!Q($B36,C$5)","v":{"v":4.46E-4,"d":"0.000446"}},{"$f":"[1]!Q($B36,D$5)","v":{"v":0,"d":"0.000000"}},{"v":4.46E-4,"d":"0.000446"},{"$f":"[1]!Q($B36,F$5)","v":0.000206},{"$f":"[1]!Q($B36,G$5)","v":{"v":0,"d":"0.000000"}},0.000206,null,29,{"v":0,"d":"0.00%"},{"v":0,"d":"0.00%"},{"v":0,"d":"0.00%"},{"v":0,"d":"0.00%"}]
[null,30,{"$f":"[1]!Q($B37,C$5)","v":0.000452},{"$f":"[1]!Q($B37,D$5)","v":{"v":0,"d":"0.000000"}},0.000452,{"$f":"[1]!Q($B37,F$5)","v":0.000218},{"$f":"[1]!Q($B37,G$5)","v":{"v":0,"d":"0.000000"}},0.000218,null,30,{"v":0,"d":"0.00%"},{"v":0,"d":"0.00%"},{"v":0,"d":"0.00%"},{"v":0,"d":"0.00%"}]
[null,31,{"$f":"[1]!Q($B38,C$5)","v":0.000463},{"$f":"[1]!Q($B38,D$5)","v":{"v":0,"d":"0.000000"}},0.000463,{"$f":"[1]!Q($B38,F$5)","v":{"v":2.31E-4,"d":"0.000231"}},{"$f":"[1]!Q($B38,G$5)","v":{"v":0,"d":"0.000000"}},{"v":2.31E-4,"d":"0.000231"},null,31,{"v":0,"d":"0.00%"},{"v":0,"d":"0.00%"},{"v":0,"d":"0.00%"},{"v":0,"d":"0.00%"}]
[null,32,{"$f":"[1]!Q($B39,C$5)","v":0.000477},{"$f":"[1]!Q($B39,D$5)","v":{"v":0,"d":"0.000000"}},0.000477,{"$f":"[1]!Q($B39,F$5)","v":0.000244},{"$f":"[1]!Q($B39,G$5)","v":{"v":0,"d":"0.000000"}},0.000244,null,32,{"v":0,"d":"0.00%"},{"v":0,"d":"0.00%"},{"v":0,"d":"0.00%"},{"v":0,"d":"0.00%"}]
[null,33,{"$f":"[1]!Q($B40,C$5)","v":0.000492},{"$f":"[1]!Q($B40,D$5)","v":{"v":0,"d":"0.000000"}},0.000492,{"$f":"[1]!Q($B40,F$5)","v":0.000258},{"$f":"[1]!Q($B40,G$5)","v":{"v":0,"d":"0.000000"}},0.000258,null,33,{"v":0,"d":"0.00%"},{"v":0,"d":"0.00%"},{"v":0,"d":"0.00%"},{"v":0,"d":"0.00%"}]
[null,34,{"$f":"[1]!Q($B41,C$5)","v":0.000508},{"$f":"[1]!Q($B41,D$5)","v":{"v":0,"d":"0.000000"}},0.000508,{"$f":"[1]!Q($B41,F$5)","v":{"v":2.72E-4,"d":"0.000272"}},{"$f":"[1]!Q($B41,G$5)","v":{"v":0,"d":"0.000000"}},{"v":2.72E-4,"d":"0.000272"},null,34,{"v":0,"d":"0.00%"},{"v":0,"d":"0.00%"},{"v":0,"d":"0.00%"},{"v":0,"d":"0.00%"}]
[null,35,{"$f":"[1]!Q($B42,C$5)","v":0.000523},{"$f":"[1]!Q($B42,D$5)","v":{"v":0,"d":"0.000000"}},0.000523,{"$f":"[1]!Q($B42,F$5)","v":0.000286},{"$f":"[1]!Q($B42,G$5)","v":{"v":0,"d":"0.000000"}},0.000286,null,35,{"v":0,"d":"0.00%"},{"v":0,"d":"0.00%"},{"v":0,"d":"0.00%"},{"v":0,"d":"0.00%"}]
[null,36,{"$f":"[1]!Q($B43,C$5)","v":0.000536},{"$f":"[1]!Q($B43,D$5)","v":{"v":0,"d":"0.000000"}},0.000536,{"$f":"[1]!Q($B43,F$5)","v":{"v":0.0003,"d":"0.000300"}},{"$f":"[1]!Q($B43,G$5)","v":{"v":0,"d":"0.000000"}},{"v":0.0003,"d":"0.000300"},null,36,{"v":0,"d":"0.00%"},{"v":0,"d":"0.00%"},{"v":0,"d":"0.00%"},{"v":0,"d":"0.00%"}]
[null,37,{"$f":"[1]!Q($B44,C$5)","v":0.000551},{"$f":"[1]!Q($B44,D$5)","v":{"v":0,"d":"0.000000"}},0.000551,{"$f":"[1]!Q($B44,F$5)","v":0.000318},{"$f":"[1]!Q($B44,G$5)","v":{"v":0,"d":"0.000000"}},0.000318,null,37,{"v":0,"d":"0.00%"},{"v":0,"d":"0.00%"},{"v":0,"d":"0.00%"},{"v":0,"d":"0.00%"}]
[null,38,{"$f":"[1]!Q($B45,C$5)","v":{"v":0.00057,"d":"0.000570"}},{"$f":"[1]!Q($B45,D$5)","v":{"v":0,"d":"0.000000"}},{"v":0.00057,"d":"0.000570"},{"$f":"[1]!Q($B45,F$5)","v":{"v":3.39E-4,"d":"0.000339"}},{"$f":"[1]!Q($B45,G$5)","v":{"v":0,"d":"0.000000"}},{"v":3.39E-4,"d":"0.000339"},null,38,{"v":0,"d":"0.00%"},{"v":0,"d":"0.00%"},{"v":0,"d":"0.00%"},{"v":0,"d":"0.00%"}]
[null,39,{"$f":"[1]!Q($B46,C$5)","v":0.000595},{"$f":"[1]!Q($B46,D$5)","v":{"v":0,"d":"0.000000"}},0.000595,{"$f":"[1]!Q($B46,F$5)","v":0.000365},{"$f":"[1]!Q($B46,G$5)","v":{"v":0,"d":"0.000000"}},0.000365,null,39,{"v":0,"d":"0.00%"},{"v":0,"d":"0.00%"},{"v":0,"d":"0.00%"},{"v":0,"d":"0.00%"}]
[null,40,{"$f":"[1]!Q($B47,C$5)","v":0.000628},{"$f":"[1]!Q($B47,D$5)","v":{"v":0,"d":"0.000000"}},0.000628,{"$f":"[1]!Q($B47,F$5)","v":0.000396},{"$f":"[1]!Q($B47,G$5)","v":{"v":0,"d":"0.000000"}},0.000396,null,40,{"v":0,"d":"0.00%"},{"v":0,"d":"0.00%"},{"v":0,"d":"0.00%"},{"v":0,"d":"0.00%"}]
[null,41,{"$f":"[1]!Q($B48,C$5)","v":0.000671},{"$f":"[1]!Q($B48,D$5)","v":{"v":0,"d":"0.000000"}},0.000671,{"$f":"[1]!Q($B48,F$5)","v":0.000433},{"$f":"[1]!Q($B48,G$5)","v":{"v":0,"d":"0.000000"}},0.000433,null,41,{"v":0,"d":"0.00%"},{"v":0,"d":"0.00%"},{"v":0,"d":"0.00%"},{"v":0,"d":"0.00%"}]
[null,42,{"$f":"[1]!Q($B49,C$5)","v":0.000725},{"$f":"[1]!Q($B49,D$5)","v":{"v":0,"d":"0.000000"}},0.000725,{"$f":"[1]!Q($B49,F$5)","v":0.000477},{"$f":"[1]!Q($B49,G$5)","v":{"v":0,"d":"0.000000"}},0.000477,null,42,{"v":0,"d":"0.00%"},{"v":0,"d":"0.00%"},{"v":0,"d":"0.00%"},{"v":0,"d":"0.00%"}]
[null,43,{"$f":"[1]!Q($B50,C$5)","v":0.000793},{"$f":"[1]!Q($B50,D$5)","v":{"v":0,"d":"0.000000"}},0.000793,{"$f":"[1]!Q($B50,F$5)","v":0.000529},{"$f":"[1]!Q($B50,G$5)","v":{"v":0,"d":"0.000000"}},0.000529,null,43,{"v":0,"d":"0.00%"},{"v":0,"d":"0.00%"},{"v":0,"d":"0.00%"},{"v":0,"d":"0.00%"}]
[null,44,{"$f":"[1]!Q($B51,C$5)","v":0.000876},{"$f":"[1]!Q($B51,D$5)","v":{"v":0,"d":"0.000000"}},0.000876,{"$f":"[1]!Q($B51,F$5)","v":0.000589},{"$f":"[1]!Q($B51,G$5)","v":{"v":0,"d":"0.000000"}},0.000589,null,44,{"v":0,"d":"0.00%"},{"v":0,"d":"0.00%"},{"v":0,"d":"0.00%"},{"v":0,"d":"0.00%"}]
[null,45,{"$f":"[1]!Q($B52,C$5)","v":0.000973},{"$f":"[1]!Q($B52,D$5)","v":{"v":0,"d":"0.000000"}},0.000973,{"$f":"[1]!Q($B52,F$5)","v":0.000657},{"$f":"[1]!Q($B52,G$5)","v":{"v":0,"d":"0.000000"}},0.000657,null,45,{"v":0,"d":"0.00%"},{"v":0,"d":"0.00%"},{"v":0,"d":"0.00%"},{"v":0,"d":"0.00%"}]
[null,46,{"$f":"[1]!Q($B53,C$5)","v":0.001087},{"$f":"[1]!Q($B53,D$5)","v":{"v":0,"d":"0.000000"}},0.001087,{"$f":"[1]!Q($B53,F$5)","v":0.000733},{"$f":"[1]!Q($B53,G$5)","v":{"v":0,"d":"0.000000"}},0.000733,null,46,{"v":0,"d":"0.00%"},{"v":0,"d":"0.00%"},{"v":0,"d":"0.00%"},{"v":0,"d":"0.00%"}]
[null,47,{"$f":"[1]!Q($B54,C$5)","v":0.001215},{"$f":"[1]!Q($B54,D$5)","v":{"v":0,"d":"0.000000"}},0.001215,{"$f":"[1]!Q($B54,F$5)","v":0.000816},{"$f":"[1]!Q($B54,G$5)","v":{"v":0,"d":"0.000000"}},0.000816,null,47,{"v":0,"d":"0.00%"},{"v":0,"d":"0.00%"},{"v":0,"d":"0.00%"},{"v":0,"d":"0.00%"}]
[null,48,{"$f":"[1]!Q($B55,C$5)","v":{"v":1.358E-3,"d":"0.001358"}},{"$f":"[1]!Q($B55,D$5)","v":{"v":0,"d":"0.000000"}},{"v":1.358E-3,"d":"0.001358"},{"$f":"[1]!Q($B55,F$5)","v":0.000906},{"$f":"[1]!Q($B55,G$5)","v":{"v":0,"d":"0.000000"}},0.000906,null,48,{"v":0,"d":"0.00%"},{"v":0,"d":"0.00%"},{"v":0,"d":"0.00%"},{"v":0,"d":"0.00%"}]
[null,49,{"$f":"[1]!Q($B56,C$5)","v":0.001515},{"$f":"[1]!Q($B56,D$5)","v":{"v":0,"d":"0.000000"}},{"$f":"C56","v":0.001515},{"$f":"[1]!Q($B56,F$5)","v":0.001001},{"$f":"[1]!Q($B56,G$5)","v":{"v":0,"d":"0.000000"}},0.001001,null,49,{"v":0,"d":"0.00%"},{"v":0,"d":"0.00%"},{"v":0,"d":"0.00%"},{"v":0,"d":"0.00%"}]
[null,50,{"$f":"[1]!Q($B57,C$5)","v":{"v":1.686E-3,"d":"0.001686"}},{"$f":"[1]!Q($B57,D$5)","v":0.004064},{"$f":"ROUND(C57*(1-M57)+D57*M57,6)","v":{"v":1.686E-3,"d":"0.001686"}},{"$f":"[1]!Q($B57,F$5)","v":0.001102},{"$f":"[1]!Q($B57,G$5)","v":0.002768},{"$f":"ROUND(F57*(1-N58)+G57*N58,6)","v":{"v":0.0012,"d":"0.001200"}},null,50,{"v":0.0498,"d":"4.98%"},{"v":0.0586,"d":"5.86%"},{"$f":"ROUND(1+(M56-1)*(1-K56),4)","v":{"v":0,"d":"0.00%"}},{"$f":"ROUND(1+(N56-1)*(1-L56),4)","v":{"v":0,"d":"0.00%"}}]
[null,51,{"$f":"[1]!Q($B58,C$5)","v":0.001871},{"$f":"[1]!Q($B58,D$5)","v":0.004384},0.001996,{"$f":"[1]!Q($B58,F$5)","v":{"v":1.206E-3,"d":"0.001206"}},{"$f":"[1]!Q($B58,G$5)","v":{"v":2.905E-3,"d":"0.002905"}},0.001332,null,51,{"v":0.0198,"d":"1.98%"},{"v":0.0168,"d":"1.68%"},{"$f":"ROUND(1+(M57-1)*(1-K57),4)","v":{"v":0.0498,"d":"4.98%"}},{"$f":"ROUND(1+(N57-1)*(1-L57),4)","v":{"v":0.0586,"d":"5.86%"}}]
[null,52,{"$f":"[1]!Q($B59,C$5)","v":0.002072},{"$f":"[1]!Q($B59,D$5)","v":0.004709},0.002253,{"$f":"[1]!Q($B59,F$5)","v":{"v":1.315E-3,"d":"0.001315"}},{"$f":"[1]!Q($B59,G$5)","v":0.003057},{"v":1.48E-3,"d":"0.001480"},null,52,{"v":0.0287,"d":"2.87%"},{"v":0.0219,"d":"2.19%"},{"v":0.0686,"d":"6.86%"},{"v":0.0744,"d":"7.44%"}]
[null,53,{"$f":"[1]!Q($B60,C$5)","v":0.002289},{"$f":"[1]!Q($B60,D$5)","v":0.005042},0.002551,{"$f":"[1]!Q($B60,F$5)","v":0.001429},{"$f":"[1]!Q($B60,G$5)","v":{"v":3.225E-3,"d":"0.003225"}},0.001643,null,53,{"v":0.037,"d":"3.70%"},{"v":0.0267,"d":"2.67%"},{"v":0.0953,"d":"9.53%"},{"v":0.0947,"d":"9.47%"}]
[null,54,{"$f":"[1]!Q($B61,C$5)","v":0.002527},{"$f":"[1]!Q($B61,D$5)","v":0.005384},{"v":2.895E-3,"d":"0.002895"},{"$f":"[1]!Q($B61,F$5)","v":0.001548},{"$f":"[1]!Q($B61,G$5)","v":0.003412},{"v":1.902E-3,"d":"0.001902"},null,54,{"v":0.0893,"d":"8.93%"},{"v":0.0804,"d":"8.04%"},{"v":0.1288,"d":"12.88%"},{"v":0.1189,"d":"11.89%"}]
[null,55,{"$f":"[1]!Q($B62,C$5)","v":0.002788},{"$f":"[1]!Q($B62,D$5)","v":0.005735},0.003397,{"$f":"[1]!Q($B62,F$5)","v":{"v":1.673E-3,"d":"0.001673"}},{"$f":"[1]!Q($B62,G$5)","v":0.003622},{"v":0.00223,"d":"0.002230"},null,55,{"v":0.1395,"d":"13.95%"},{"v":0.1185,"d":"11.85%"},{"v":0.2066,"d":"20.66%"},{"v":0.1897,"d":"18.97%"}]
[null,56,{"$f":"[1]!Q($B63,C$5)","v":0.003079},{"$f":"[1]!Q($B63,D$5)","v":0.006099},0.004037,{"$f":"[1]!Q($B63,F$5)","v":{"v":1.805E-3,"d":"0.001805"}},{"$f":"[1]!Q($B63,G$5)","v":0.003858},0.002504,null,56,{"v":0.0889,"d":"8.89%"},{"v":0.0764,"d":"7.64%"},{"v":0.3173,"d":"31.73%"},{"v":0.2857,"d":"28.57%"}]
[null,57,{"$f":"[1]!Q($B64,C$5)","v":0.003407},{"$f":"[1]!Q($B64,D$5)","v":0.006478},{"v":4.568E-3,"d":"0.004568"},{"$f":"[1]!Q($B64,F$5)","v":{"v":1.946E-3,"d":"0.001946"}},{"$f":"[1]!Q($B64,G$5)","v":0.004128},0.002792,null,57,{"v":0.0998,"d":"9.98%"},{"v":0.072,"d":"7.20%"},{"v":0.378,"d":"37.80%"},{"v":0.3403,"d":"34.03%"}]
[null,58,{"$f":"[1]!Q($B65,C$5)","v":0.003779},{"$f":"[1]!Q($B65,D$5)","v":0.006877},0.005142,{"$f":"[1]!Q($B65,F$5)","v":0.002097},{"$f":"[1]!Q($B65,G$5)","v":0.004436},{"v":3.117E-3,"d":"0.003117"},null,58,{"v":0.1045,"d":"10.45%"},{"v":0.0787,"d":"7.87%"},{"v":0.4401,"d":"44.01%"},{"v":0.3878,"d":"38.78%"}]
[null,59,{"$f":"[1]!Q($B66,C$5)","v":0.004204},{"$f":"[1]!Q($B66,D$5)","v":0.007305},{"v":0.00575,"d":"0.005750"},{"$f":"[1]!Q($B66,F$5)","v":{"v":2.261E-3,"d":"0.002261"}},{"$f":"[1]!Q($B66,G$5)","v":0.004789},0.003513,null,59,{"v":0.129,"d":"12.90%"},{"v":0.1053,"d":"10.53%"},{"v":0.4986,"d":"49.86%"},{"v":0.436,"d":"43.60%"}]
[null,60,{"$f":"[1]!Q($B67,C$5)","v":0.004688},{"$f":"[1]!Q($B67,D$5)","v":0.007771},0.006425,{"$f":"[1]!Q($B67,F$5)","v":0.002442},{"$f":"[1]!Q($B67,G$5)","v":0.005191},0.004038,null,60,{"v":0.1614,"d":"16.14%"},{"v":0.1686,"d":"16.86%"},{"v":0.5633,"d":"56.33%"},{"v":0.4954,"d":"49.54%"}]
[null,61,{"$f":"[1]!Q($B68,C$5)","v":{"v":0.00524,"d":"0.005240"}},{"$f":"[1]!Q($B68,D$5)","v":0.008284},{"v":7.169E-3,"d":"0.007169"},{"$f":"[1]!Q($B68,F$5)","v":0.002642},{"$f":"[1]!Q($B68,G$5)","v":{"v":5.646E-3,"d":"0.005646"}},0.004624,null,61,{"v":0.2089,"d":"20.89%"},{"v":0.189,"d":"18.90%"},{"v":0.6338,"d":"63.38%"},{"v":0.5805,"d":"58.05%"}]
[null,62,{"$f":"[1]!Q($B69,C$5)","v":0.005867},{"$f":"[1]!Q($B69,D$5)","v":0.008854},0.007989,{"$f":"[1]!Q($B69,F$5)","v":0.002864},{"$f":"[1]!Q($B69,G$5)","v":{"v":6.156E-3,"d":"0.006156"}},{"v":0.00534,"d":"0.005340"},null,62,{"v":0.2758,"d":"27.58%"},{"v":0.271,"d":"27.10%"},{"v":0.7103,"d":"71.03%"},{"v":0.6598,"d":"65.98%"}]
[null,63,{"$f":"[1]!Q($B70,C$5)","v":0.006577},{"$f":"[1]!Q($B70,D$5)","v":0.009492},{"v":0.00888,"d":"0.008880"},{"$f":"[1]!Q($B70,F$5)","v":0.003113},{"$f":"[1]!Q($B70,G$5)","v":0.006723},0.006017,null,63,{"v":0.2159,"d":"21.59%"},{"v":0.2109,"d":"21.09%"},{"v":0.7902,"d":"79.02%"},{"v":0.752,"d":"75.20%"}]
[null,64,{"$f":"[1]!Q($B71,C$5)","v":0.007377},{"$f":"[1]!Q($B71,D$5)","v":0.010209},0.009743,{"$f":"[1]!Q($B71,F$5)","v":0.003389},{"$f":"[1]!Q($B71,G$5)","v":{"v":7.352E-3,"d":"0.007352"}},0.006778,null,64,{"v":0.29,"d":"29.00%"},{"v":0.2601,"d":"26.01%"},{"v":0.8355,"d":"83.55%"},{"v":0.8043,"d":"80.43%"}]
[null,{"$f":"B71+1","v":65},{"$f":"[1]!Q($B72,C$5)","v":0.008277},{"$f":"[1]!Q($B72,D$5)","v":0.011013},0.010693,{"$f":"[1]!Q($B72,F$5)","v":0.003696},{"$f":"[1]!Q($B72,G$5)","v":0.008048},0.007664,null,{"$f":"J71+1","v":65},{"v":0.4187,"d":"41.87%"},{"v":0.3909,"d":"39.09%"},{"v":0.8832,"d":"88.32%"},{"v":0.8552,"d":"85.52%"}]
[null,66,{"$f":"[1]!Q($B73,C$5)","v":0.009175},{"$f":"[1]!Q($B73,D$5)","v":0.011916},{"v":0.01173,"d":"0.011730"},{"$f":"[1]!Q($B73,F$5)","v":0.004113},{"$f":"[1]!Q($B73,G$5)","v":0.008821},0.008523,null,66,{"v":0.2784,"d":"27.84%"},{"v":0.2823,"d":"28.23%"},{"v":0.9321,"d":"93.21%"},{"v":0.9118,"d":"91.18%"}]
[null,67,{"$f":"[1]!Q($B74,C$5)","v":0.010171},{"$f":"[1]!Q($B74,D$5)","v":{"v":0.01293,"d":"0.012930"}},0.012795,{"$f":"[1]!Q($B74,F$5)","v":0.004577},{"$f":"[1]!Q($B74,G$5)","v":0.009679},0.009436,null,67,{"v":0.2633,"d":"26.33%"},{"v":0.2464,"d":"24.64%"},{"v":0.951,"d":"95.10%"},{"v":0.9367,"d":"93.67%"}]
[null,68,{"$f":"[1]!Q($B75,C$5)","v":0.011275},{"$f":"[1]!Q($B75,D$5)","v":0.014067},0.013966,{"$f":"[1]!Q($B75,F$5)","v":0.005094},{"$f":"[1]!Q($B75,G$5)","v":0.010633},0.010426,null,68,{"v":0.2078,"d":"20.78%"},{"v":0.218,"d":"21.80%"},{"v":0.9639,"d":"96.39%"},{"v":0.9523,"d":"95.23%"}]
[null,69,{"$f":"[1]!Q($B76,C$5)","v":0.012498},{"$f":"[1]!Q($B76,D$5)","v":0.015342},0.015261,{"$f":"[1]!Q($B76,F$5)","v":0.005669},{"$f":"[1]!Q($B76,G$5)","v":0.011692},0.011692,null,69,{"v":1,"d":"100.00%"},{"v":1,"d":"100.00%"},{"v":0.9714,"d":"97.14%"},{"v":0.9627,"d":"96.27%"}]
[null,70,{"$f":"[1]!Q($B77,C$5)","v":0.013854},{"$f":"[1]!Q($B77,D$5)","v":0.016769},0.016769,{"$f":"[1]!Q($B77,F$5)","v":0.006309},{"$f":"[1]!Q($B77,G$5)","v":0.012868},{"$f":"ROUND(F77*(1-N28)+G77*N28,6)","v":0.006309},null,70,{"v":1,"d":"100.00%"},{"v":1,"d":"100.00%"},{"v":1,"d":"100.00%"},{"v":1,"d":"100.00%"}]
[null,71,{"$f":"[1]!Q($B78,C$5)","v":0.015357},{"$f":"[1]!Q($B78,D$5)","v":0.018363},0.018363,{"$f":"[1]!Q($B78,F$5)","v":0.007021},{"$f":"[1]!Q($B78,G$5)","v":0.014171},{"$f":"G78","v":0.014171},null,71,{"v":1,"d":"100.00%"},{"v":1,"d":"100.00%"},{"v":1,"d":"100.00%"},{"v":1,"d":"100.00%"}]
[null,72,{"$f":"[1]!Q($B79,C$5)","v":0.017023},{"$f":"[1]!Q($B79,D$5)","v":0.020141},0.020141,{"$f":"[1]!Q($B79,F$5)","v":0.007813},{"$f":"[1]!Q($B79,G$5)","v":0.015614},0.015614,null,72,{"v":1,"d":"100.00%"},{"v":1,"d":"100.00%"},{"v":1,"d":"100.00%"},{"v":1,"d":"100.00%"}]
[null,73,{"$f":"[1]!Q($B80,C$5)","v":{"v":0.01887,"d":"0.018870"}},{"$f":"[1]!Q($B80,D$5)","v":0.022127},0.022127,{"$f":"[1]!Q($B80,F$5)","v":0.008695},{"$f":"[1]!Q($B80,G$5)","v":{"v":0.01721,"d":"0.017210"}},{"v":0.01721,"d":"0.017210"},null,73,{"v":1,"d":"100.00%"},{"v":1,"d":"100.00%"},{"v":1,"d":"100.00%"},{"v":1,"d":"100.00%"}]
[null,74,{"$f":"[1]!Q($B81,C$5)","v":0.020918},{"$f":"[1]!Q($B81,D$5)","v":0.024345},0.024345,{"$f":"[1]!Q($B81,F$5)","v":0.009676},{"$f":"[1]!Q($B81,G$5)","v":0.018977},0.018977,null,74,{"v":1,"d":"100.00%"},{"v":1,"d":"100.00%"},{"v":1,"d":"100.00%"},{"v":1,"d":"100.00%"}]
[null,75,{"$f":"[1]!Q($B82,C$5)","v":0.023188},{"$f":"[1]!Q($B82,D$5)","v":0.026826},0.026826,{"$f":"[1]!Q($B82,F$5)","v":0.010768},{"$f":"[1]!Q($B82,G$5)","v":0.020938},0.020938,null,75,{"v":1,"d":"100.00%"},{"v":1,"d":"100.00%"},{"v":1,"d":"100.00%"},{"v":1,"d":"100.00%"}]
[null,76,{"$f":"[1]!Q($B83,C$5)","v":0.025704},{"$f":"[1]!Q($B83,D$5)","v":0.029608},0.029608,{"$f":"[1]!Q($B83,F$5)","v":0.011983},{"$f":"[1]!Q($B83,G$5)","v":0.023118},0.023118,null,76,{"v":1,"d":"100.00%"},{"v":1,"d":"100.00%"},{"v":1,"d":"100.00%"},{"v":1,"d":"100.00%"}]
[null,77,{"$f":"[1]!Q($B84,C$5)","v":0.028493},{"$f":"[1]!Q($B84,D$5)","v":0.032735},0.032735,{"$f":"[1]!Q($B84,F$5)","v":0.013336},{"$f":"[1]!Q($B84,G$5)","v":0.025554},0.025554,null,77,{"v":1,"d":"100.00%"},{"v":1,"d":"100.00%"},{"v":1,"d":"100.00%"},{"v":1,"d":"100.00%"}]
[null,78,{"$f":"[1]!Q($B85,C$5)","v":0.031585},{"$f":"[1]!Q($B85,D$5)","v":0.036258},0.036258,{"$f":"[1]!Q($B85,F$5)","v":0.014841},{"$f":"[1]!Q($B85,G$5)","v":0.028288},0.028288,null,78,{"v":1,"d":"100.00%"},{"v":1,"d":"100.00%"},{"v":1,"d":"100.00%"},{"v":1,"d":"100.00%"}]
[null,79,{"$f":"[1]!Q($B86,C$5)","v":0.035012},{"$f":"[1]!Q($B86,D$5)","v":0.040232},0.040232,{"$f":"[1]!Q($B86,F$5)","v":0.016516},{"$f":"[1]!Q($B86,G$5)","v":0.031366},0.031366,null,79,{"v":1,"d":"100.00%"},{"v":1,"d":"100.00%"},{"v":1,"d":"100.00%"},{"v":1,"d":"100.00%"}]
[null,80,{"$f":"[1]!Q($B87,C$5)","v":0.038811},{"$f":"[1]!Q($B87,D$5)","v":0.044722},0.044722,{"$f":"[1]!Q($B87,F$5)","v":{"v":0.01838,"d":"0.018380"}},{"$f":"[1]!Q($B87,G$5)","v":0.034844},0.034844,null,80,{"v":1,"d":"100.00%"},{"v":1,"d":"100.00%"},{"v":1,"d":"100.00%"},{"v":1,"d":"100.00%"}]
[null,81,{"$f":"[1]!Q($B88,C$5)","v":{"v":0,"d":"0.000000"}},{"$f":"[1]!Q($B88,D$5)","v":0.049795},{"$f":"D88","v":0.049795},{"$f":"[1]!Q($B88,F$5)","v":{"v":0,"d":"0.000000"}},{"$f":"[1]!Q($B88,G$5)","v":0.038783},0.038783,null,81,{"v":1,"d":"100.00%"},{"v":1,"d":"100.00%"},{"v":1,"d":"100.00%"},{"v":1,"d":"100.00%"}]
[null,82,{"$f":"[1]!Q($B89,C$5)","v":{"v":0,"d":"0.000000"}},{"$f":"[1]!Q($B89,D$5)","v":0.055526},0.055526,{"$f":"[1]!Q($B89,F$5)","v":{"v":0,"d":"0.000000"}},{"$f":"[1]!Q($B89,G$5)","v":0.043246},0.043246,null,82,{"v":1,"d":"100.00%"},{"v":1,"d":"100.00%"},{"v":1,"d":"100.00%"},{"v":1,"d":"100.00%"}]
[null,83,{"$f":"[1]!Q($B90,C$5)","v":{"v":0,"d":"0.000000"}},{"$f":"[1]!Q($B90,D$5)","v":0.061996},0.061996,{"$f":"[1]!Q($B90,F$5)","v":{"v":0,"d":"0.000000"}},{"$f":"[1]!Q($B90,G$5)","v":0.048305},0.048305,null,83,{"v":1,"d":"100.00%"},{"v":1,"d":"100.00%"},{"$f":"ROUND(1+(M89-1)*(1-K89),4)","v":{"v":1,"d":"100.00%"}},{"$f":"ROUND(1+(N89-1)*(1-L89),4)","v":{"v":1,"d":"100.00%"}}]
[null,84,{"$f":"[1]!Q($B91,C$5)","v":{"v":0,"d":"0.000000"}},{"$f":"[1]!Q($B91,D$5)","v":{"v":0.06929,"d":"0.069290"}},{"v":0.06929,"d":"0.069290"},{"$f":"[1]!Q($B91,F$5)","v":{"v":0,"d":"0.000000"}},{"$f":"[1]!Q($B91,G$5)","v":0.054032},0.054032,null,84,{"v":1,"d":"100.00%"},{"v":1,"d":"100.00%"},{"v":1,"d":"100.00%"},{"v":1,"d":"100.00%"}]
[null,85,{"$f":"[1]!Q($B92,C$5)","v":{"v":0,"d":"0.000000"}},{"$f":"[1]!Q($B92,D$5)","v":0.077497},0.077497,{"$f":"[1]!Q($B92,F$5)","v":{"v":0,"d":"0.000000"}},{"$f":"[1]!Q($B92,G$5)","v":0.060504},0.060504,null,85,{"v":1,"d":"100.00%"},{"v":1,"d":"100.00%"},{"v":1,"d":"100.00%"},{"v":1,"d":"100.00%"}]
[null,86,{"$f":"[1]!Q($B93,C$5)","v":{"v":0,"d":"0.000000"}},{"$f":"[1]!Q($B93,D$5)","v":0.086712},0.086712,{"$f":"[1]!Q($B93,F$5)","v":{"v":0,"d":"0.000000"}},{"$f":"[1]!Q($B93,G$5)","v":0.067801},0.067801,null,86,{"v":1,"d":"100.00%"},{"v":1,"d":"100.00%"},{"v":1,"d":"100.00%"},{"v":1,"d":"100.00%"}]
[null,87,{"$f":"[1]!Q($B94,C$5)","v":{"v":0,"d":"0.000000"}},{"$f":"[1]!Q($B94,D$5)","v":0.097038},0.097038,{"$f":"[1]!Q($B94,F$5)","v":{"v":0,"d":"0.000000"}},{"$f":"[1]!Q($B94,G$5)","v":0.076012},0.076012,null,87,{"v":1,"d":"100.00%"},{"v":1,"d":"100.00%"},{"v":1,"d":"100.00%"},{"v":1,"d":"100.00%"}]
[null,88,{"$f":"[1]!Q($B95,C$5)","v":{"v":0,"d":"0.000000"}},{"$f":"[1]!Q($B95,D$5)","v":0.108591},0.108591,{"$f":"[1]!Q($B95,F$5)","v":{"v":0,"d":"0.000000"}},{"$f":"[1]!Q($B95,G$5)","v":{"v":0.08523,"d":"0.085230"}},{"v":0.08523,"d":"0.085230"},null,88,{"v":1,"d":"100.00%"},{"v":1,"d":"100.00%"},{"v":1,"d":"100.00%"},{"v":1,"d":"100.00%"}]
[null,89,{"$f":"[1]!Q($B96,C$5)","v":{"v":0,"d":"0.000000"}},{"$f":"[1]!Q($B96,D$5)","v":0.121499},0.121499,{"$f":"[1]!Q($B96,F$5)","v":{"v":0,"d":"0.000000"}},{"$f":"[1]!Q($B96,G$5)","v":0.095563},0.095563,null,89,{"v":1,"d":"100.00%"},{"v":1,"d":"100.00%"},{"v":1,"d":"100.00%"},{"v":1,"d":"100.00%"}]
[null,90,{"$f":"[1]!Q($B97,C$5)","v":{"v":0,"d":"0.000000"}},{"$f":"[1]!Q($B97,D$5)","v":0.135908},0.135908,{"$f":"[1]!Q($B97,F$5)","v":{"v":0,"d":"0.000000"}},{"$f":"[1]!Q($B97,G$5)","v":0.107126},0.107126,null,90,{"v":1,"d":"100.00%"},{"v":1,"d":"100.00%"},{"v":1,"d":"100.00%"},{"v":1,"d":"100.00%"}]
[null,91,{"$f":"[1]!Q($B98,C$5)","v":{"v":0,"d":"0.000000"}},{"$f":"[1]!Q($B98,D$5)","v":0.151322},0.151322,{"$f":"[1]!Q($B98,F$5)","v":{"v":0,"d":"0.000000"}},{"$f":"[1]!Q($B98,G$5)","v":0.119744},0.119744,null,91,{"v":1,"d":"100.00%"},{"v":1,"d":"100.00%"},{"v":1,"d":"100.00%"},{"v":1,"d":"100.00%"}]
[null,92,{"$f":"[1]!Q($B99,C$5)","v":{"v":0,"d":"0.000000"}},{"$f":"[1]!Q($B99,D$5)","v":0.167422},0.167422,{"$f":"[1]!Q($B99,F$5)","v":{"v":0,"d":"0.000000"}},{"$f":"[1]!Q($B99,G$5)","v":0.133299},0.133299,null,92,{"v":1,"d":"100.00%"},{"v":1,"d":"100.00%"},{"v":1,"d":"100.00%"},{"v":1,"d":"100.00%"}]
[null,93,{"$f":"[1]!Q($B100,C$5)","v":{"v":0,"d":"0.000000"}},{"$f":"[1]!Q($B100,D$5)","v":{"v":0.18403,"d":"0.184030"}},{"v":0.18403,"d":"0.184030"},{"$f":"[1]!Q($B100,F$5)","v":{"v":0,"d":"0.000000"}},{"$f":"[1]!Q($B100,G$5)","v":{"v":0.14772,"d":"0.147720"}},{"v":0.14772,"d":"0.147720"},null,93,{"v":1,"d":"100.00%"},{"v":1,"d":"100.00%"},{"v":1,"d":"100.00%"},{"v":1,"d":"100.00%"}]
[null,94,{"$f":"[1]!Q($B101,C$5)","v":{"v":0,"d":"0.000000"}},{"$f":"[1]!Q($B101,D$5)","v":0.201074},0.201074,{"$f":"[1]!Q($B101,F$5)","v":{"v":0,"d":"0.000000"}},{"$f":"[1]!Q($B101,G$5)","v":0.162971},0.162971,null,94,{"v":1,"d":"100.00%"},{"v":1,"d":"100.00%"},{"v":1,"d":"100.00%"},{"v":1,"d":"100.00%"}]
[null,95,{"$f":"[1]!Q($B102,C$5)","v":{"v":0,"d":"0.000000"}},{"$f":"[1]!Q($B102,D$5)","v":0.218559},0.218559,{"$f":"[1]!Q($B102,F$5)","v":{"v":0,"d":"0.000000"}},{"$f":"[1]!Q($B102,G$5)","v":0.179034},0.179034,null,95,{"v":1,"d":"100.00%"},{"v":1,"d":"100.00%"},{"v":1,"d":"100.00%"},{"v":1,"d":"100.00%"}]
[null,96,{"$f":"[1]!Q($B103,C$5)","v":{"v":0,"d":"0.000000"}},{"$f":"[1]!Q($B103,D$5)","v":0.236535},0.236535,{"$f":"[1]!Q($B103,F$5)","v":{"v":0,"d":"0.000000"}},{"$f":"[1]!Q($B103,G$5)","v":0.195903},0.195903,null,96,{"v":1,"d":"100.00%"},{"v":1,"d":"100.00%"},{"v":1,"d":"100.00%"},{"v":1,"d":"100.00%"}]
[null,97,{"$f":"[1]!Q($B104,C$5)","v":{"v":0,"d":"0.000000"}},{"$f":"[1]!Q($B104,D$5)","v":0.255059},0.255059,{"$f":"[1]!Q($B104,F$5)","v":{"v":0,"d":"0.000000"}},{"$f":"[1]!Q($B104,G$5)","v":0.213565},0.213565,null,97,{"v":1,"d":"100.00%"},{"v":1,"d":"100.00%"},{"v":1,"d":"100.00%"},{"v":1,"d":"100.00%"}]
[null,98,{"$f":"[1]!Q($B105,C$5)","v":{"v":0,"d":"0.000000"}},{"$f":"[1]!Q($B105,D$5)","v":{"v":0.27417,"d":"0.274170"}},{"v":0.27417,"d":"0.274170"},{"$f":"[1]!Q($B105,F$5)","v":{"v":0,"d":"0.000000"}},{"$f":"[1]!Q($B105,G$5)","v":0.231991},0.231991,null,98,{"v":1,"d":"100.00%"},{"v":1,"d":"100.00%"},{"v":1,"d":"100.00%"},{"v":1,"d":"100.00%"}]
[null,99,{"$f":"[1]!Q($B106,C$5)","v":{"v":0,"d":"0.000000"}},{"$f":"[1]!Q($B106,D$5)","v":0.293848},0.293848,{"$f":"[1]!Q($B106,F$5)","v":{"v":0,"d":"0.000000"}},{"$f":"[1]!Q($B106,G$5)","v":0.251123},0.251123,null,99,{"v":1,"d":"100.00%"},{"v":1,"d":"100.00%"},{"v":1,"d":"100.00%"},{"v":1,"d":"100.00%"}]
[null,100,{"$f":"[1]!Q($B107,C$5)","v":{"v":0,"d":"0.000000"}},{"$f":"[1]!Q($B107,D$5)","v":0.313988},0.313988,{"$f":"[1]!Q($B107,F$5)","v":{"v":0,"d":"0.000000"}},{"$f":"[1]!Q($B107,G$5)","v":0.270858},0.270858,null,100,{"v":1,"d":"100.00%"},{"v":1,"d":"100.00%"},{"v":1,"d":"100.00%"},{"v":1,"d":"100.00%"}]
[null,101,{"$f":"[1]!Q($B108,C$5)","v":{"v":0,"d":"0.000000"}},{"$f":"[1]!Q($B108,D$5)","v":0.334365},0.334365,{"$f":"[1]!Q($B108,F$5)","v":{"v":0,"d":"0.000000"}},{"$f":"[1]!Q($B108,G$5)","v":{"v":0.29104,"d":"0.291040"}},{"v":0.29104,"d":"0.291040"},null,101,{"v":1,"d":"100.00%"},{"v":1,"d":"100.00%"},{"v":1,"d":"100.00%"},{"v":1,"d":"100.00%"}]
[null,102,{"$f":"[1]!Q($B109,C$5)","v":{"v":0,"d":"0.000000"}},{"$f":"[1]!Q($B109,D$5)","v":0.354599},0.354599,{"$f":"[1]!Q($B109,F$5)","v":{"v":0,"d":"0.000000"}},{"$f":"[1]!Q($B109,G$5)","v":0.311444},0.311444,null,102,{"v":1,"d":"100.00%"},{"v":1,"d":"100.00%"},{"v":1,"d":"100.00%"},{"v":1,"d":"100.00%"}]
[null,103,{"$f":"[1]!Q($B110,C$5)","v":{"v":0,"d":"0.000000"}},{"$f":"[1]!Q($B110,D$5)","v":0.374524},0.374524,{"$f":"[1]!Q($B110,F$5)","v":{"v":0,"d":"0.000000"}},{"$f":"[1]!Q($B110,G$5)","v":{"v":0.3319,"d":"0.331900"}},{"v":0.3319,"d":"0.331900"},null,103,{"v":1,"d":"100.00%"},{"v":1,"d":"100.00%"},{"v":1,"d":"100.00%"},{"v":1,"d":"100.00%"}]
[null,104,{"$f":"[1]!Q($B111,C$5)","v":{"v":0,"d":"0.000000"}},{"$f":"[1]!Q($B111,D$5)","v":0.393982},0.393982,{"$f":"[1]!Q($B111,F$5)","v":{"v":0,"d":"0.000000"}},{"$f":"[1]!Q($B111,G$5)","v":0.352232},0.352232,null,104,{"v":1,"d":"100.00%"},{"v":1,"d":"100.00%"},{"v":1,"d":"100.00%"},{"v":1,"d":"100.00%"}]
[null,105,{"$f":"[1]!Q($B112,C$5)","v":{"v":0,"d":"0.000000"}},{"$f":"[1]!Q($B112,D$5)","v":0.412831},0.412831,{"$f":"[1]!Q($B112,F$5)","v":{"v":0,"d":"0.000000"}},{"$f":"[1]!Q($B112,G$5)","v":0.372273},0.372273,null,105,{"v":1,"d":"100.00%"},{"v":1,"d":"100.00%"},{"v":1,"d":"100.00%"},{"v":1,"d":"100.00%"}]
[null,106,{"$f":"[1]!Q($B113,C$5)","v":{"v":0,"d":"0.000000"}},{"$f":"[1]!Q($B113,D$5)","v":0.430946},0.430946,{"$f":"[1]!Q($B113,F$5)","v":{"v":0,"d":"0.000000"}},{"$f":"[1]!Q($B113,G$5)","v":{"v":0.39186,"d":"0.391860"}},{"v":0.39186,"d":"0.391860"},null,106,{"v":1,"d":"100.00%"},{"v":1,"d":"100.00%"},{"v":1,"d":"100.00%"},{"v":1,"d":"100.00%"}]
[null,107,{"$f":"[1]!Q($B114,C$5)","v":{"v":0,"d":"0.000000"}},{"$f":"[1]!Q($B114,D$5)","v":0.448227},0.448227,{"$f":"[1]!Q($B114,F$5)","v":{"v":0,"d":"0.000000"}},{"$f":"[1]!Q($B114,G$5)","v":0.410849},0.410849,null,107,{"v":1,"d":"100.00%"},{"v":1,"d":"100.00%"},{"v":1,"d":"100.00%"},{"v":1,"d":"100.00%"}]
[null,108,{"$f":"[1]!Q($B115,C$5)","v":{"v":0,"d":"0.000000"}},{"$f":"[1]!Q($B115,D$5)","v":0.464592},0.464592,{"$f":"[1]!Q($B115,F$5)","v":{"v":0,"d":"0.000000"}},{"$f":"[1]!Q($B115,G$5)","v":0.429112},0.429112,null,108,{"v":1,"d":"100.00%"},{"v":1,"d":"100.00%"},{"v":1,"d":"100.00%"},{"v":1,"d":"100.00%"}]
[null,109,{"$f":"[1]!Q($B116,C$5)","v":{"v":0,"d":"0.000000"}},{"$f":"[1]!Q($B116,D$5)","v":0.479987},0.479987,{"$f":"[1]!Q($B116,F$5)","v":{"v":0,"d":"0.000000"}},{"$f":"[1]!Q($B116,G$5)","v":0.446544},0.446544,null,109,{"v":1,"d":"100.00%"},{"v":1,"d":"100.00%"},{"v":1,"d":"100.00%"},{"v":1,"d":"100.00%"}]
[null,110,{"$f":"[1]!Q($B117,C$5)","v":{"v":0,"d":"0.000000"}},{"$f":"[1]!Q($B117,D$5)","v":0.494376},0.494376,{"$f":"[1]!Q($B117,F$5)","v":{"v":0,"d":"0.000000"}},{"$f":"[1]!Q($B117,G$5)","v":0.463061},0.463061,null,110,{"v":1,"d":"100.00%"},{"v":1,"d":"100.00%"},{"v":1,"d":"100.00%"},{"v":1,"d":"100.00%"}]
[null,111,{"$f":"[1]!Q($B118,C$5)","v":{"v":0,"d":"0.000000"}},{"$f":"[1]!Q($B118,D$5)","v":{"v":0.5,"d":"0.500000"}},{"v":0.5,"d":"0.500000"},{"$f":"[1]!Q($B118,F$5)","v":{"v":0,"d":"0.000000"}},{"$f":"[1]!Q($B118,G$5)","v":0.478604},0.478604,null,111,{"v":1,"d":"100.00%"},{"v":1,"d":"100.00%"},{"v":1,"d":"100.00%"},{"v":1,"d":"100.00%"}]
[null,112,{"$f":"[1]!Q($B119,C$5)","v":{"v":0,"d":"0.000000"}},{"$f":"[1]!Q($B119,D$5)","v":{"v":0.5,"d":"0.500000"}},{"v":0.5,"d":"0.500000"},{"$f":"[1]!Q($B119,F$5)","v":{"v":0,"d":"0.000000"}},{"$f":"[1]!Q($B119,G$5)","v":0.493137},0.493137,null,112,{"v":1,"d":"100.00%"},{"v":1,"d":"100.00%"},{"v":1,"d":"100.00%"},{"v":1,"d":"100.00%"}]
[null,113,{"$f":"[1]!Q($B120,C$5)","v":{"v":0,"d":"0.000000"}},{"$f":"[1]!Q($B120,D$5)","v":{"v":0.5,"d":"0.500000"}},{"v":0.5,"d":"0.500000"},{"$f":"[1]!Q($B120,F$5)","v":{"v":0,"d":"0.000000"}},{"$f":"[1]!Q($B120,G$5)","v":{"v":0.5,"d":"0.500000"}},{"v":0.5,"d":"0.500000"},null,113,{"v":1,"d":"100.00%"},{"v":1,"d":"100.00%"},{"v":1,"d":"100.00%"},{"v":1,"d":"100.00%"}]
[null,114,{"$f":"[1]!Q($B121,C$5)","v":{"v":0,"d":"0.000000"}},{"$f":"[1]!Q($B121,D$5)","v":{"v":0.5,"d":"0.500000"}},{"v":0.5,"d":"0.500000"},{"$f":"[1]!Q($B121,F$5)","v":{"v":0,"d":"0.000000"}},{"$f":"[1]!Q($B121,G$5)","v":{"v":0.5,"d":"0.500000"}},{"v":0.5,"d":"0.500000"},null,114,{"v":1,"d":"100.00%"},{"v":1,"d":"100.00%"},{"v":1,"d":"100.00%"},{"v":1,"d":"100.00%"}]
[null,115,{"$f":"[1]!Q($B122,C$5)","v":{"v":0,"d":"0.000000"}},{"$f":"[1]!Q($B122,D$5)","v":{"v":0.5,"d":"0.500000"}},{"v":0.5,"d":"0.500000"},{"$f":"[1]!Q($B122,F$5)","v":{"v":0,"d":"0.000000"}},{"$f":"[1]!Q($B122,G$5)","v":{"v":0.5,"d":"0.500000"}},{"v":0.5,"d":"0.500000"},null,115,{"v":1,"d":"100.00%"},{"v":1,"d":"100.00%"},{"$f":"ROUND(1+(M121-1)*(1-K121),4)","v":{"v":1,"d":"100.00%"}},{"$f":"ROUND(1+(N121-1)*(1-L121),4)","v":{"v":1,"d":"100.00%"}}]
[null,116,{"$f":"[1]!Q($B123,C$5)","v":{"v":0,"d":"0.000000"}},{"$f":"[1]!Q($B123,D$5)","v":{"v":0.5,"d":"0.500000"}},{"v":0.5,"d":"0.500000"},{"$f":"[1]!Q($B123,F$5)","v":{"v":0,"d":"0.000000"}},{"$f":"[1]!Q($B123,G$5)","v":{"v":0.5,"d":"0.500000"}},{"v":0.5,"d":"0.500000"},null,116,{"v":1,"d":"100.00%"},{"v":1,"d":"100.00%"},{"v":1,"d":"100.00%"},{"v":1,"d":"100.00%"}]
[null,117,{"$f":"[1]!Q($B124,C$5)","v":{"v":0,"d":"0.000000"}},{"$f":"[1]!Q($B124,D$5)","v":{"v":0.5,"d":"0.500000"}},{"v":0.5,"d":"0.500000"},{"$f":"[1]!Q($B124,F$5)","v":{"v":0,"d":"0.000000"}},{"$f":"[1]!Q($B124,G$5)","v":{"v":0.5,"d":"0.500000"}},{"v":0.5,"d":"0.500000"},null,117,{"v":1,"d":"100.00%"},{"v":1,"d":"100.00%"},{"v":1,"d":"100.00%"},{"v":1,"d":"100.00%"}]
[null,118,{"$f":"[1]!Q($B125,C$5)","v":{"v":0,"d":"0.000000"}},{"$f":"[1]!Q($B125,D$5)","v":{"v":0.5,"d":"0.500000"}},{"v":0.5,"d":"0.500000"},{"$f":"[1]!Q($B125,F$5)","v":{"v":0,"d":"0.000000"}},{"$f":"[1]!Q($B125,G$5)","v":{"v":0.5,"d":"0.500000"}},{"v":0.5,"d":"0.500000"},null,118,{"v":1,"d":"100.00%"},{"v":1,"d":"100.00%"},{"v":1,"d":"100.00%"},{"v":1,"d":"100.00%"}]
[null,119,{"$f":"[1]!Q($B126,C$5)","v":{"v":0,"d":"0.000000"}},{"$f":"[1]!Q($B126,D$5)","v":{"v":0.5,"d":"0.500000"}},{"v":0.5,"d":"0.500000"},{"$f":"[1]!Q($B126,F$5)","v":{"v":0,"d":"0.000000"}},{"$f":"[1]!Q($B126,G$5)","v":{"v":0.5,"d":"0.500000"}},{"v":0.5,"d":"0.500000"},null,119,{"v":1,"d":"100.00%"},{"v":1,"d":"100.00%"},{"v":1,"d":"100.00%"},{"v":1,"d":"100.00%"}]
[null,120,{"$f":"[1]!Q($B127,C$5)","v":{"v":1,"d":"1.000000"}},{"$f":"[1]!Q($B127,D$5)","v":{"v":1,"d":"1.000000"}},{"v":1,"d":"1.000000"},{"$f":"[1]!Q($B127,F$5)","v":{"v":1,"d":"1.000000"}},{"$f":"[1]!Q($B127,G$5)","v":{"v":1,"d":"1.000000"}},{"v":1,"d":"1.000000"},null,120,{"v":1,"d":"100.00%"},{"v":1,"d":"100.00%"},{"v":1,"d":"100.00%"},{"v":1,"d":"100.00%"}]

{"sheet":"Male","index":1,"n_rows":123,"n_cols":2,"rows_kept":123}
["RP2014_Comb_M"]
["RP 2014 combined table using client retirement rates (male)"]
[0,{"$f":"Sheet1!E7","v":{"v":0,"d":"0.000000"}}]
[1,{"$f":"Sheet1!E8","v":{"v":0,"d":"0.000000"}}]
[2,{"$f":"Sheet1!E9","v":{"v":0,"d":"0.000000"}}]
[3,{"$f":"Sheet1!E10","v":{"v":0,"d":"0.000000"}}]
[4,{"$f":"Sheet1!E11","v":{"v":0,"d":"0.000000"}}]
[5,{"$f":"Sheet1!E12","v":{"v":0,"d":"0.000000"}}]
[6,{"$f":"Sheet1!E13","v":{"v":0,"d":"0.000000"}}]
[7,{"$f":"Sheet1!E14","v":{"v":0,"d":"0.000000"}}]
[8,{"$f":"Sheet1!E15","v":{"v":0,"d":"0.000000"}}]
[9,{"$f":"Sheet1!E16","v":{"v":0,"d":"0.000000"}}]
[10,{"$f":"Sheet1!E17","v":{"v":0,"d":"0.000000"}}]
[11,{"$f":"Sheet1!E18","v":{"v":0,"d":"0.000000"}}]
[12,{"$f":"Sheet1!E19","v":{"v":0,"d":"0.000000"}}]
[13,{"$f":"Sheet1!E20","v":{"v":0,"d":"0.000000"}}]
[14,{"$f":"Sheet1!E21","v":{"v":0,"d":"0.000000"}}]
[15,{"$f":"Sheet1!E22","v":{"v":0,"d":"0.000000"}}]
[16,{"$f":"Sheet1!E23","v":{"v":0,"d":"0.000000"}}]
[17,{"$f":"Sheet1!E24","v":{"v":0,"d":"0.000000"}}]
[18,{"$f":"Sheet1!E25","v":{"v":3.28E-4,"d":"0.000328"}}]
[19,{"$f":"Sheet1!E26","v":0.000369}]
[20,{"$f":"Sheet1!E27","v":{"v":4.06E-4,"d":"0.000406"}}]
[21,{"$f":"Sheet1!E28","v":0.000449}]
[22,{"$f":"Sheet1!E29","v":0.000488}]
[23,{"$f":"Sheet1!E30","v":0.000509}]
[24,{"$f":"Sheet1!E31","v":0.000516}]
[25,{"$f":"Sheet1!E32","v":{"v":4.84E-4,"d":"0.000484"}}]
[26,{"$f":"Sheet1!E33","v":0.000462}]
[27,{"$f":"Sheet1!E34","v":0.000449}]
[28,{"$f":"Sheet1!E35","v":{"v":4.44E-4,"d":"0.000444"}}]
[29,{"$f":"Sheet1!E36","v":{"v":4.46E-4,"d":"0.000446"}}]
[30,{"$f":"Sheet1!E37","v":0.000452}]
[31,{"$f":"Sheet1!E38","v":0.000463}]
[32,{"$f":"Sheet1!E39","v":0.000477}]
[33,{"$f":"Sheet1!E40","v":0.000492}]
[34,{"$f":"Sheet1!E41","v":0.000508}]
[35,{"$f":"Sheet1!E42","v":0.000523}]
[36,{"$f":"Sheet1!E43","v":0.000536}]
[37,{"$f":"Sheet1!E44","v":0.000551}]
[38,{"$f":"Sheet1!E45","v":{"v":0.00057,"d":"0.000570"}}]
[39,{"$f":"Sheet1!E46","v":0.000595}]
[40,{"$f":"Sheet1!E47","v":0.000628}]
[41,{"$f":"Sheet1!E48","v":0.000671}]
[42,{"$f":"Sheet1!E49","v":0.000725}]
[43,{"$f":"Sheet1!E50","v":0.000793}]
[44,{"$f":"Sheet1!E51","v":0.000876}]
[45,{"$f":"Sheet1!E52","v":0.000973}]
[46,{"$f":"Sheet1!E53","v":0.001087}]
[47,{"$f":"Sheet1!E54","v":0.001215}]
[48,{"$f":"Sheet1!E55","v":{"v":1.358E-3,"d":"0.001358"}}]
[49,{"$f":"Sheet1!E56","v":0.001515}]
[50,{"$f":"Sheet1!E57","v":{"v":1.686E-3,"d":"0.001686"}}]
[51,{"$f":"Sheet1!E58","v":0.001996}]
[52,{"$f":"Sheet1!E59","v":0.002253}]
[53,{"$f":"Sheet1!E60","v":0.002551}]
[54,{"$f":"Sheet1!E61","v":{"v":2.895E-3,"d":"0.002895"}}]
[55,{"$f":"Sheet1!E62","v":0.003397}]
[56,{"$f":"Sheet1!E63","v":0.004037}]
[57,{"$f":"Sheet1!E64","v":{"v":4.568E-3,"d":"0.004568"}}]
[58,{"$f":"Sheet1!E65","v":0.005142}]
[59,{"$f":"Sheet1!E66","v":{"v":0.00575,"d":"0.005750"}}]
[60,{"$f":"Sheet1!E67","v":0.006425}]
[61,{"$f":"Sheet1!E68","v":{"v":7.169E-3,"d":"0.007169"}}]
[62,{"$f":"Sheet1!E69","v":0.007989}]
[63,{"$f":"Sheet1!E70","v":{"v":0.00888,"d":"0.008880"}}]
[64,{"$f":"Sheet1!E71","v":0.009743}]
[65,{"$f":"Sheet1!E72","v":0.010693}]
[66,{"$f":"Sheet1!E73","v":{"v":0.01173,"d":"0.011730"}}]
[67,{"$f":"Sheet1!E74","v":0.012795}]
[68,{"$f":"Sheet1!E75","v":0.013966}]
[69,{"$f":"Sheet1!E76","v":0.015261}]
[70,{"$f":"Sheet1!E77","v":0.016769}]
[71,{"$f":"Sheet1!E78","v":0.018363}]
[72,{"$f":"Sheet1!E79","v":0.020141}]
[73,{"$f":"Sheet1!E80","v":0.022127}]
[74,{"$f":"Sheet1!E81","v":0.024345}]
[75,{"$f":"Sheet1!E82","v":0.026826}]
[76,{"$f":"Sheet1!E83","v":0.029608}]
[77,{"$f":"Sheet1!E84","v":0.032735}]
[78,{"$f":"Sheet1!E85","v":0.036258}]
[79,{"$f":"Sheet1!E86","v":0.040232}]
[80,{"$f":"Sheet1!E87","v":0.044722}]
[81,{"$f":"Sheet1!E88","v":0.049795}]
[82,{"$f":"Sheet1!E89","v":0.055526}]
[83,{"$f":"Sheet1!E90","v":0.061996}]
[84,{"$f":"Sheet1!E91","v":{"v":0.06929,"d":"0.069290"}}]
[85,{"$f":"Sheet1!E92","v":0.077497}]
[86,{"$f":"Sheet1!E93","v":0.086712}]
[87,{"$f":"Sheet1!E94","v":0.097038}]
[88,{"$f":"Sheet1!E95","v":0.108591}]
[89,{"$f":"Sheet1!E96","v":0.121499}]
[90,{"$f":"Sheet1!E97","v":0.135908}]
[91,{"$f":"Sheet1!E98","v":0.151322}]
[92,{"$f":"Sheet1!E99","v":0.167422}]
[93,{"$f":"Sheet1!E100","v":{"v":0.18403,"d":"0.184030"}}]
[94,{"$f":"Sheet1!E101","v":0.201074}]
[95,{"$f":"Sheet1!E102","v":0.218559}]
[96,{"$f":"Sheet1!E103","v":0.236535}]
[97,{"$f":"Sheet1!E104","v":0.255059}]
[98,{"$f":"Sheet1!E105","v":{"v":0.27417,"d":"0.274170"}}]
[99,{"$f":"Sheet1!E106","v":0.293848}]
[100,{"$f":"Sheet1!E107","v":0.313988}]
[101,{"$f":"Sheet1!E108","v":0.334365}]
[102,{"$f":"Sheet1!E109","v":0.354599}]
[103,{"$f":"Sheet1!E110","v":0.374524}]
[104,{"$f":"Sheet1!E111","v":0.393982}]
[105,{"$f":"Sheet1!E112","v":0.412831}]
[106,{"$f":"Sheet1!E113","v":0.430946}]
[107,{"$f":"Sheet1!E114","v":0.448227}]
[108,{"$f":"Sheet1!E115","v":0.464592}]
[109,{"$f":"Sheet1!E116","v":0.479987}]
[110,{"$f":"Sheet1!E117","v":0.494376}]
[111,{"$f":"Sheet1!E118","v":{"v":0.5,"d":"0.500000"}}]
[112,{"$f":"Sheet1!E119","v":{"v":0.5,"d":"0.500000"}}]
[113,{"$f":"Sheet1!E120","v":{"v":0.5,"d":"0.500000"}}]
[114,{"$f":"Sheet1!E121","v":{"v":0.5,"d":"0.500000"}}]
[115,{"$f":"Sheet1!E122","v":{"v":0.5,"d":"0.500000"}}]
[116,{"$f":"Sheet1!E123","v":{"v":0.5,"d":"0.500000"}}]
[117,{"$f":"Sheet1!E124","v":{"v":0.5,"d":"0.500000"}}]
[118,{"$f":"Sheet1!E125","v":{"v":0.5,"d":"0.500000"}}]
[119,{"$f":"Sheet1!E126","v":{"v":0.5,"d":"0.500000"}}]
[120,{"$f":"Sheet1!E127","v":{"v":1,"d":"1.000000"}}]

{"sheet":"Female","index":2,"n_rows":123,"n_cols":2,"rows_kept":123}
["RP2014_Comb_F"]
["RP 2014 combined table using client retirement rates (female)"]
[0,{"$f":"Sheet1!H7","v":{"v":0,"d":"0.000000"}}]
[1,{"$f":"Sheet1!H8","v":{"v":0,"d":"0.000000"}}]
[2,{"$f":"Sheet1!H9","v":{"v":0,"d":"0.000000"}}]
[3,{"$f":"Sheet1!H10","v":{"v":0,"d":"0.000000"}}]
[4,{"$f":"Sheet1!H11","v":{"v":0,"d":"0.000000"}}]
[5,{"$f":"Sheet1!H12","v":{"v":0,"d":"0.000000"}}]
[6,{"$f":"Sheet1!H13","v":{"v":0,"d":"0.000000"}}]
[7,{"$f":"Sheet1!H14","v":{"v":0,"d":"0.000000"}}]
[8,{"$f":"Sheet1!H15","v":{"v":0,"d":"0.000000"}}]
[9,{"$f":"Sheet1!H16","v":{"v":0,"d":"0.000000"}}]
[10,{"$f":"Sheet1!H17","v":{"v":0,"d":"0.000000"}}]
[11,{"$f":"Sheet1!H18","v":{"v":0,"d":"0.000000"}}]
[12,{"$f":"Sheet1!H19","v":{"v":0,"d":"0.000000"}}]
[13,{"$f":"Sheet1!H20","v":{"v":0,"d":"0.000000"}}]
[14,{"$f":"Sheet1!H21","v":{"v":0,"d":"0.000000"}}]
[15,{"$f":"Sheet1!H22","v":{"v":0,"d":"0.000000"}}]
[16,{"$f":"Sheet1!H23","v":{"v":0,"d":"0.000000"}}]
[17,{"$f":"Sheet1!H24","v":{"v":0,"d":"0.000000"}}]
[18,{"$f":"Sheet1!H25","v":0.000157}]
[19,{"$f":"Sheet1!H26","v":0.000162}]
[20,{"$f":"Sheet1!H27","v":0.000162}]
[21,{"$f":"Sheet1!H28","v":0.000162}]
[22,{"$f":"Sheet1!H29","v":0.000162}]
[23,{"$f":"Sheet1!H30","v":{"v":1.66E-4,"d":"0.000166"}}]
[24,{"$f":"Sheet1!H31","v":0.000169}]
[25,{"$f":"Sheet1!H32","v":{"v":1.73E-4,"d":"0.000173"}}]
[26,{"$f":"Sheet1!H33","v":0.000179}]
[27,{"$f":"Sheet1!H34","v":0.000187}]
[28,{"$f":"Sheet1!H35","v":0.000196}]
[29,{"$f":"Sheet1!H36","v":0.000206}]
[30,{"$f":"Sheet1!H37","v":0.000218}]
[31,{"$f":"Sheet1!H38","v":{"v":2.31E-4,"d":"0.000231"}}]
[32,{"$f":"Sheet1!H39","v":0.000244}]
[33,{"$f":"Sheet1!H40","v":0.000258}]
[34,{"$f":"Sheet1!H41","v":{"v":2.72E-4,"d":"0.000272"}}]
[35,{"$f":"Sheet1!H42","v":0.000286}]
[36,{"$f":"Sheet1!H43","v":{"v":0.0003,"d":"0.000300"}}]
[37,{"$f":"Sheet1!H44","v":0.000318}]
[38,{"$f":"Sheet1!H45","v":{"v":3.39E-4,"d":"0.000339"}}]
[39,{"$f":"Sheet1!H46","v":0.000365}]
[40,{"$f":"Sheet1!H47","v":0.000396}]
[41,{"$f":"Sheet1!H48","v":0.000433}]
[42,{"$f":"Sheet1!H49","v":0.000477}]
[43,{"$f":"Sheet1!H50","v":0.000529}]
[44,{"$f":"Sheet1!H51","v":0.000589}]
[45,{"$f":"Sheet1!H52","v":0.000657}]
[46,{"$f":"Sheet1!H53","v":0.000733}]
[47,{"$f":"Sheet1!H54","v":0.000816}]
[48,{"$f":"Sheet1!H55","v":0.000906}]
[49,{"$f":"Sheet1!H56","v":0.001001}]
[50,{"$f":"Sheet1!H57","v":{"v":0.0012,"d":"0.001200"}}]
[51,{"$f":"Sheet1!H58","v":0.001332}]
[52,{"$f":"Sheet1!H59","v":{"v":1.48E-3,"d":"0.001480"}}]
[53,{"$f":"Sheet1!H60","v":0.001643}]
[54,{"$f":"Sheet1!H61","v":{"v":1.902E-3,"d":"0.001902"}}]
[55,{"$f":"Sheet1!H62","v":{"v":0.00223,"d":"0.002230"}}]
[56,{"$f":"Sheet1!H63","v":0.002504}]
[57,{"$f":"Sheet1!H64","v":0.002792}]
[58,{"$f":"Sheet1!H65","v":{"v":3.117E-3,"d":"0.003117"}}]
[59,{"$f":"Sheet1!H66","v":0.003513}]
[60,{"$f":"Sheet1!H67","v":0.004038}]
[61,{"$f":"Sheet1!H68","v":0.004624}]
[62,{"$f":"Sheet1!H69","v":{"v":0.00534,"d":"0.005340"}}]
[63,{"$f":"Sheet1!H70","v":0.006017}]
[64,{"$f":"Sheet1!H71","v":0.006778}]
[65,{"$f":"Sheet1!H72","v":0.007664}]
[66,{"$f":"Sheet1!H73","v":0.008523}]
[67,{"$f":"Sheet1!H74","v":0.009436}]
[68,{"$f":"Sheet1!H75","v":0.010426}]
[69,{"$f":"Sheet1!H76","v":0.011692}]
[70,{"$f":"Sheet1!H77","v":0.006309}]
[71,{"$f":"Sheet1!H78","v":0.014171}]
[72,{"$f":"Sheet1!H79","v":0.015614}]
[73,{"$f":"Sheet1!H80","v":{"v":0.01721,"d":"0.017210"}}]
[74,{"$f":"Sheet1!H81","v":0.018977}]
[75,{"$f":"Sheet1!H82","v":0.020938}]
[76,{"$f":"Sheet1!H83","v":0.023118}]
[77,{"$f":"Sheet1!H84","v":0.025554}]
[78,{"$f":"Sheet1!H85","v":0.028288}]
[79,{"$f":"Sheet1!H86","v":0.031366}]
[80,{"$f":"Sheet1!H87","v":0.034844}]
[81,{"$f":"Sheet1!H88","v":0.038783}]
[82,{"$f":"Sheet1!H89","v":0.043246}]
[83,{"$f":"Sheet1!H90","v":0.048305}]
[84,{"$f":"Sheet1!H91","v":0.054032}]
[85,{"$f":"Sheet1!H92","v":0.060504}]
[86,{"$f":"Sheet1!H93","v":0.067801}]
[87,{"$f":"Sheet1!H94","v":0.076012}]
[88,{"$f":"Sheet1!H95","v":{"v":0.08523,"d":"0.085230"}}]
[89,{"$f":"Sheet1!H96","v":0.095563}]
[90,{"$f":"Sheet1!H97","v":0.107126}]
[91,{"$f":"Sheet1!H98","v":0.119744}]
[92,{"$f":"Sheet1!H99","v":0.133299}]
[93,{"$f":"Sheet1!H100","v":{"v":0.14772,"d":"0.147720"}}]
[94,{"$f":"Sheet1!H101","v":0.162971}]
[95,{"$f":"Sheet1!H102","v":0.179034}]
[96,{"$f":"Sheet1!H103","v":0.195903}]
[97,{"$f":"Sheet1!H104","v":0.213565}]
[98,{"$f":"Sheet1!H105","v":0.231991}]
[99,{"$f":"Sheet1!H106","v":0.251123}]
[100,{"$f":"Sheet1!H107","v":0.270858}]
[101,{"$f":"Sheet1!H108","v":{"v":0.29104,"d":"0.291040"}}]
[102,{"$f":"Sheet1!H109","v":0.311444}]
[103,{"$f":"Sheet1!H110","v":{"v":0.3319,"d":"0.331900"}}]
[104,{"$f":"Sheet1!H111","v":0.352232}]
[105,{"$f":"Sheet1!H112","v":0.372273}]
[106,{"$f":"Sheet1!H113","v":{"v":0.39186,"d":"0.391860"}}]
[107,{"$f":"Sheet1!H114","v":0.410849}]
[108,{"$f":"Sheet1!H115","v":0.429112}]
[109,{"$f":"Sheet1!H116","v":0.446544}]
[110,{"$f":"Sheet1!H117","v":0.463061}]
[111,{"$f":"Sheet1!H118","v":0.478604}]
[112,{"$f":"Sheet1!H119","v":0.493137}]
[113,{"$f":"Sheet1!H120","v":{"v":0.5,"d":"0.500000"}}]
[114,{"$f":"Sheet1!H121","v":{"v":0.5,"d":"0.500000"}}]
[115,{"$f":"Sheet1!H122","v":{"v":0.5,"d":"0.500000"}}]
[116,{"$f":"Sheet1!H123","v":{"v":0.5,"d":"0.500000"}}]
[117,{"$f":"Sheet1!H124","v":{"v":0.5,"d":"0.500000"}}]
[118,{"$f":"Sheet1!H125","v":{"v":0.5,"d":"0.500000"}}]
[119,{"$f":"Sheet1!H126","v":{"v":0.5,"d":"0.500000"}}]
[120,{"$f":"Sheet1!H127","v":{"v":1,"d":"1.000000"}}]